BEGIN:VCALENDAR
VERSION:2.0
PRODID:-//Kings County Museum - ECPv6.14.0//NONSGML v1.0//EN
CALSCALE:GREGORIAN
METHOD:PUBLISH
X-ORIGINAL-URL:https://www.kingscountymuseum.ca
X-WR-CALDESC:Events for Kings County Museum
REFRESH-INTERVAL;VALUE=DURATION:PT1H
X-Robots-Tag:noindex
X-PUBLISHED-TTL:PT1H
BEGIN:VTIMEZONE
TZID:America/Halifax
BEGIN:DAYLIGHT
TZOFFSETFROM:-0400
TZOFFSETTO:-0300
TZNAME:ADT
DTSTART:20250309T060000
END:DAYLIGHT
BEGIN:STANDARD
TZOFFSETFROM:-0300
TZOFFSETTO:-0400
TZNAME:AST
DTSTART:20251102T050000
END:STANDARD
END:VTIMEZONE
BEGIN:VTIMEZONE
TZID:UTC
BEGIN:STANDARD
TZOFFSETFROM:+0000
TZOFFSETTO:+0000
TZNAME:UTC
DTSTART:20180101T000000
END:STANDARD
END:VTIMEZONE
BEGIN:VEVENT
DTSTART;TZID=America/Halifax:20250429T190000
DTEND;TZID=America/Halifax:20250429T210000
DTSTAMP:20260424T063110
CREATED:20250417T164752Z
LAST-MODIFIED:20250417T180255Z
UID:6577-1745953200-1745960400@www.kingscountymuseum.ca
SUMMARY:Kings County Museum Show & Tell
DESCRIPTION:  \n     \n                                                                                              Monthly Meeting plus   \nThe Great Kings Historical Society \nShow and Tell\n   \nIt is a night devoted to discovery at the Kings County Museum \nTuesday\, April 29\, 2025 \n7 pm \nKings County Museum \n37 Bridge Street \nKentville \n(902) 678-6237 \nwww.kingscountymuseum.ca \n Own something that makes you say\, “what’s it?” bring it along and see if the historical society membership can help you identify it. Own something that is unique but might stump the collective knowledge of our membership bring it along to share. All welcome!
URL:https://www.kingscountymuseum.ca/event/kings-county-museum-show-tell/
LOCATION:Kings County Museum
CATEGORIES:Antique Show and Tell,Meeting
ORGANIZER;CN="Kings Historical Society":MAILTO:info@kingscountymuseum.ca
END:VEVENT
BEGIN:VEVENT
DTSTART;TZID=UTC:20190430T193000
DTEND;TZID=UTC:20190430T210000
DTSTAMP:20260424T063110
CREATED:20190109T191726Z
LAST-MODIFIED:20190109T191803Z
UID:2504-1556652600-1556658000@www.kingscountymuseum.ca
SUMMARY:Monthly Meeting PLUS  Antique show and tell!
DESCRIPTION:
URL:https://www.kingscountymuseum.ca/event/monthly-meeting-plus-antique-show-and-tell/
LOCATION:Kings County Museum
CATEGORIES:Antique Show and Tell
ORGANIZER;CN="Kings Historical Society":MAILTO:info@kingscountymuseum.ca
END:VEVENT
BEGIN:VEVENT
DTSTART;TZID=UTC:20180925T193000
DTEND;TZID=UTC:20180925T210000
DTSTAMP:20260424T063110
CREATED:20180628T204334Z
LAST-MODIFIED:20180628T204434Z
UID:2194-1537903800-1537909200@www.kingscountymuseum.ca
SUMMARY:Monthly Meeting and Antique Show and Tell
DESCRIPTION:Press Release \nMonthly Meeting plus Public Talk: \nThe Great Kings Historical Society \nShow and Tell \n It is a night devoted to discovery at the Kings County Museum. \n Tuesday\, September 25\, 2018 \n7:30 pm \nKings County Museum \n37 Cornwallis Street \nKentville \n(902) 678-6237 \nwww.kingscountymuseum.ca \n Free Will Offering \nOwn something that makes you say\, “what’s it?” bring it along and see if the historical society membership can help you identify it.  Own something that is unique but might stump the collective knowledge of our membership bring it along to share.  Have questions about proper care for your object ask our resident conservator. All welcome!
URL:https://www.kingscountymuseum.ca/event/monthly-meeting-and-antique-show-and-tell/
LOCATION:Kings County Museum
CATEGORIES:Antique Show and Tell
ATTACH;FMTTYPE=image/jpeg:https://www.kingscountymuseum.ca/wp-content/uploads/2018/06/Show-and-tell--e1530207646771.jpg
ORGANIZER;CN="Kings Historical Society":MAILTO:info@kingscountymuseum.ca
END:VEVENT
END:VCALENDAR