BEGIN:VCALENDAR
VERSION:2.0
PRODID:-//Kings County Museum - ECPv6.14.0//NONSGML v1.0//EN
CALSCALE:GREGORIAN
METHOD:PUBLISH
X-ORIGINAL-URL:https://www.kingscountymuseum.ca
X-WR-CALDESC:Events for Kings County Museum
REFRESH-INTERVAL;VALUE=DURATION:PT1H
X-Robots-Tag:noindex
X-PUBLISHED-TTL:PT1H
BEGIN:VTIMEZONE
TZID:America/Halifax
BEGIN:DAYLIGHT
TZOFFSETFROM:-0400
TZOFFSETTO:-0300
TZNAME:ADT
DTSTART:20250309T060000
END:DAYLIGHT
BEGIN:STANDARD
TZOFFSETFROM:-0300
TZOFFSETTO:-0400
TZNAME:AST
DTSTART:20251102T050000
END:STANDARD
END:VTIMEZONE
BEGIN:VEVENT
DTSTART;TZID=America/Halifax:20251123T100000
DTEND;TZID=America/Halifax:20251123T160000
DTSTAMP:20260422T182728
CREATED:20251023T143423Z
LAST-MODIFIED:20251023T143423Z
UID:7104-1763892000-1763913600@www.kingscountymuseum.ca
SUMMARY:Handmade for the Holidays
DESCRIPTION:Longing for an old-fashioned Christmas? Join us and the folks from The Northville Farm Heritage Centre and say\, “Out with the new and in with the old!” As thoughts turn to seasonal events join us to celebrate all things homespun\, traditional\, and timeless. Traditional crafts\, blacksmithing \, festive children’s activities and more can be enjoyed with family and friends. We invite you to embrace the time-honoured way of creating through the eyes and hands of Kings County’s crafters and artisans. ‘Tis the time and the season\, and now you have a reason\, to visit the Kings County Museum on November 21st and 22nd as part of Kentville’s Holly Days Festival!
URL:https://www.kingscountymuseum.ca/event/handmade-for-the-holidays/
LOCATION:Kings County Museum
ATTACH;FMTTYPE=image/png:https://www.kingscountymuseum.ca/wp-content/uploads/2025/10/Holly-Days-Flyer--e1761229857456.png
ORGANIZER;CN="Kings Historical Society":MAILTO:info@kingscountymuseum.ca
END:VEVENT
END:VCALENDAR